BEGIN:VCALENDAR
VERSION:2.0
PRODID:-//Ovlac - ECPv6.14.1//NONSGML v1.0//EN
CALSCALE:GREGORIAN
METHOD:PUBLISH
X-WR-CALNAME:Ovlac
X-ORIGINAL-URL:https://ovlac.com/fr/
X-WR-CALDESC:Évènements pour Ovlac
REFRESH-INTERVAL;VALUE=DURATION:PT1H
X-Robots-Tag:noindex
X-PUBLISHED-TTL:PT1H
BEGIN:VTIMEZONE
TZID:UTC
BEGIN:STANDARD
TZOFFSETFROM:+0000
TZOFFSETTO:+0000
TZNAME:UTC
DTSTART:20240101T000000
END:STANDARD
END:VTIMEZONE
BEGIN:VEVENT
DTSTART;VALUE=DATE:20240604
DTEND;VALUE=DATE:20240610
DTSTAMP:20260422T142054
CREATED:20250624T054949Z
LAST-MODIFIED:20250624T054949Z
UID:58589-1717459200-1717977599@ovlac.com
SUMMARY:Belagro
DESCRIPTION:
URL:https://ovlac.com/fr/event/belagro/
END:VEVENT
BEGIN:VEVENT
DTSTART;VALUE=DATE:20240611
DTEND;VALUE=DATE:20240613
DTSTAMP:20260422T142054
CREATED:20240430T105320Z
LAST-MODIFIED:20240430T105320Z
UID:56597-1718064000-1718236799@ovlac.com
SUMMARY:Cereals
DESCRIPTION:
URL:https://ovlac.com/fr/event/cereals/
LOCATION:Stand 806\, Bygrave Woods Newnham Farm\, Reino Unido
END:VEVENT
BEGIN:VEVENT
DTSTART;VALUE=DATE:20240620
DTEND;VALUE=DATE:20240624
DTSTAMP:20260422T142054
CREATED:20240430T105448Z
LAST-MODIFIED:20240430T105448Z
UID:56600-1718841600-1719187199@ovlac.com
SUMMARY:Royal Highland Show
DESCRIPTION:
URL:https://ovlac.com/fr/event/royal-highland-show/
LOCATION:Royal Highland Centre\, Ingliston\, Newbridge\,EH28 8NB\, Reino Unido
END:VEVENT
BEGIN:VEVENT
DTSTART;VALUE=DATE:20240626
DTEND;VALUE=DATE:20240701
DTSTAMP:20260422T142054
CREATED:20240503T124016Z
LAST-MODIFIED:20240503T124016Z
UID:57044-1719360000-1719791999@ovlac.com
SUMMARY:Fercam 2024
DESCRIPTION:
URL:https://ovlac.com/fr/event/fercam-2024/
LOCATION:Manzanares\, Ciudad Real\, España
END:VEVENT
END:VCALENDAR