BEGIN:VCALENDAR
VERSION:2.0
PRODID:-//Ovlac - ECPv6.14.1//NONSGML v1.0//EN
CALSCALE:GREGORIAN
METHOD:PUBLISH
X-ORIGINAL-URL:https://ovlac.com/fr/
X-WR-CALDESC:Évènements pour Ovlac
REFRESH-INTERVAL;VALUE=DURATION:PT1H
X-Robots-Tag:noindex
X-PUBLISHED-TTL:PT1H
BEGIN:VTIMEZONE
TZID:UTC
BEGIN:STANDARD
TZOFFSETFROM:+0000
TZOFFSETTO:+0000
TZNAME:UTC
DTSTART:20240101T000000
END:STANDARD
END:VTIMEZONE
BEGIN:VEVENT
DTSTART;VALUE=DATE:20240506
DTEND;VALUE=DATE:20240511
DTSTAMP:20260422T154442
CREATED:20240430T110827Z
LAST-MODIFIED:20240430T110827Z
UID:56619-1714953600-1715385599@ovlac.com
SUMMARY:TOUR MF EXPERIENCE 2024
DESCRIPTION:
URL:https://ovlac.com/fr/event/tour-mf-experience-2024-3/
LOCATION:Granada\, España
END:VEVENT
BEGIN:VEVENT
DTSTART;VALUE=DATE:20240513
DTEND;VALUE=DATE:20240518
DTSTAMP:20260422T154442
CREATED:20240430T110417Z
LAST-MODIFIED:20240430T110417Z
UID:56613-1715558400-1715990399@ovlac.com
SUMMARY:BATA AGRO
DESCRIPTION:
URL:https://ovlac.com/fr/event/bata-agro/
LOCATION:STARA ZAGORA AIRPORT\, Bulgaria
END:VEVENT
BEGIN:VEVENT
DTSTART;VALUE=DATE:20240513
DTEND;VALUE=DATE:20240518
DTSTAMP:20260422T154442
CREATED:20240430T110655Z
LAST-MODIFIED:20240430T110655Z
UID:56616-1715558400-1715990399@ovlac.com
SUMMARY:TOUR MF EXPERIENCE 2024
DESCRIPTION:
URL:https://ovlac.com/fr/event/tour-mf-experience-2024-2/
LOCATION:Toledo\, España
END:VEVENT
BEGIN:VEVENT
DTSTART;VALUE=DATE:20240520
DTEND;VALUE=DATE:20240525
DTSTAMP:20260422T154442
CREATED:20240430T110303Z
LAST-MODIFIED:20240430T110303Z
UID:56610-1716163200-1716595199@ovlac.com
SUMMARY:TOUR MF EXPERIENCE 2024
DESCRIPTION:
URL:https://ovlac.com/fr/event/tour-mf-experience-2024/
LOCATION:Huesca
END:VEVENT
BEGIN:VEVENT
DTSTART;VALUE=DATE:20240523
DTEND;VALUE=DATE:20240527
DTSTAMP:20260422T154442
CREATED:20240430T105812Z
LAST-MODIFIED:20240430T105812Z
UID:56606-1716422400-1716767999@ovlac.com
SUMMARY:Agriplanta
DESCRIPTION:
URL:https://ovlac.com/fr/event/agriplanta/
LOCATION:Lângă localitatea Fundulea Județul Călărași\, Rumania
END:VEVENT
BEGIN:VEVENT
DTSTART;VALUE=DATE:20240528
DTEND;VALUE=DATE:20240529
DTSTAMP:20260422T154442
CREATED:20240430T105551Z
LAST-MODIFIED:20240430T105551Z
UID:56603-1716854400-1716940799@ovlac.com
SUMMARY:Gira VarioDrive Pro 2024
DESCRIPTION:
URL:https://ovlac.com/fr/event/gira-variodrive-pro-2024/
LOCATION:Zaragoza\, España
END:VEVENT
END:VCALENDAR