BEGIN:VCALENDAR
VERSION:2.0
PRODID:-//Ovlac - ECPv6.14.1//NONSGML v1.0//EN
CALSCALE:GREGORIAN
METHOD:PUBLISH
X-ORIGINAL-URL:https://ovlac.com/fr/
X-WR-CALDESC:Évènements pour Ovlac
REFRESH-INTERVAL;VALUE=DURATION:PT1H
X-Robots-Tag:noindex
X-PUBLISHED-TTL:PT1H
BEGIN:VTIMEZONE
TZID:UTC
BEGIN:STANDARD
TZOFFSETFROM:+0000
TZOFFSETTO:+0000
TZNAME:UTC
DTSTART:20250101T000000
END:STANDARD
END:VTIMEZONE
BEGIN:VEVENT
DTSTART;VALUE=DATE:20250905
DTEND;VALUE=DATE:20250915
DTSTAMP:20260421T154455
CREATED:20250718T062537Z
LAST-MODIFIED:20250718T062537Z
UID:63825-1757030400-1757894399@ovlac.com
SUMMARY:Expo Rural Prado 2025
DESCRIPTION:
URL:https://ovlac.com/fr/event/expo-rural-prado-2025/
LOCATION:Montevideo\, Uruguay
END:VEVENT
END:VCALENDAR