BEGIN:VCALENDAR
VERSION:2.0
PRODID:-//Ovlac - ECPv6.14.1//NONSGML v1.0//EN
CALSCALE:GREGORIAN
METHOD:PUBLISH
X-ORIGINAL-URL:https://ovlac.com/en/
X-WR-CALDESC:Events for Ovlac
REFRESH-INTERVAL;VALUE=DURATION:PT1H
X-Robots-Tag:noindex
X-PUBLISHED-TTL:PT1H
BEGIN:VTIMEZONE
TZID:UTC
BEGIN:STANDARD
TZOFFSETFROM:+0000
TZOFFSETTO:+0000
TZNAME:UTC
DTSTART:20260101T000000
END:STANDARD
END:VTIMEZONE
BEGIN:VEVENT
DTSTART;VALUE=DATE:20260720
DTEND;VALUE=DATE:20260724
DTSTAMP:20260421T044644
CREATED:20251215T081849Z
LAST-MODIFIED:20251215T081849Z
UID:66788-1784505600-1784851199@ovlac.com
SUMMARY:Royal Welsh Show 2026
DESCRIPTION:
URL:https://ovlac.com/en/event/royal-welsh-show-2026/
LOCATION:Llanelwedd\, Builth Wells LD2 3SY\, Reino Unido\, Reino Unido
END:VEVENT
END:VCALENDAR