BEGIN:VCALENDAR
VERSION:2.0
PRODID:-//Ovlac - ECPv6.14.1//NONSGML v1.0//EN
CALSCALE:GREGORIAN
METHOD:PUBLISH
X-WR-CALNAME:Ovlac
X-ORIGINAL-URL:https://ovlac.com/en/
X-WR-CALDESC:Events for Ovlac
REFRESH-INTERVAL;VALUE=DURATION:PT1H
X-Robots-Tag:noindex
X-PUBLISHED-TTL:PT1H
BEGIN:VTIMEZONE
TZID:UTC
BEGIN:STANDARD
TZOFFSETFROM:+0000
TZOFFSETTO:+0000
TZNAME:UTC
DTSTART:20260101T000000
END:STANDARD
END:VTIMEZONE
BEGIN:VEVENT
DTSTART;VALUE=DATE:20260210
DTEND;VALUE=DATE:20260215
DTSTAMP:20260421T044525
CREATED:20251215T082749Z
LAST-MODIFIED:20251215T082749Z
UID:66796-1770681600-1771113599@ovlac.com
SUMMARY:FIMA 2026
DESCRIPTION:
URL:https://ovlac.com/en/event/fima-2026/
END:VEVENT
END:VCALENDAR