BEGIN:VCALENDAR
VERSION:2.0
PRODID:-//Ovlac - ECPv6.14.1//NONSGML v1.0//EN
CALSCALE:GREGORIAN
METHOD:PUBLISH
X-ORIGINAL-URL:https://ovlac.com/de/
X-WR-CALDESC:Veranstaltungen für Ovlac
REFRESH-INTERVAL;VALUE=DURATION:PT1H
X-Robots-Tag:noindex
X-PUBLISHED-TTL:PT1H
BEGIN:VTIMEZONE
TZID:UTC
BEGIN:STANDARD
TZOFFSETFROM:+0000
TZOFFSETTO:+0000
TZNAME:UTC
DTSTART:20260101T000000
END:STANDARD
END:VTIMEZONE
BEGIN:VEVENT
DTSTART;VALUE=DATE:20260610
DTEND;VALUE=DATE:20260612
DTSTAMP:20260421T025717
CREATED:20251215T075643Z
LAST-MODIFIED:20251215T075643Z
UID:66770-1781049600-1781222399@ovlac.com
SUMMARY:Cereals 2026
DESCRIPTION:
URL:https://ovlac.com/de/event/cereals-2026/
LOCATION:Stand 806\, Bygrave Woods Newnham Farm\, Reino Unido
END:VEVENT
END:VCALENDAR