BEGIN:VCALENDAR
VERSION:2.0
PRODID:-//Ovlac - ECPv6.14.1//NONSGML v1.0//EN
CALSCALE:GREGORIAN
METHOD:PUBLISH
X-WR-CALNAME:Ovlac
X-ORIGINAL-URL:https://ovlac.com/de/
X-WR-CALDESC:Veranstaltungen für Ovlac
REFRESH-INTERVAL;VALUE=DURATION:PT1H
X-Robots-Tag:noindex
X-PUBLISHED-TTL:PT1H
BEGIN:VTIMEZONE
TZID:UTC
BEGIN:STANDARD
TZOFFSETFROM:+0000
TZOFFSETTO:+0000
TZNAME:UTC
DTSTART:20250101T000000
END:STANDARD
END:VTIMEZONE
BEGIN:VEVENT
DTSTART;VALUE=DATE:20250919
DTEND;VALUE=DATE:20250922
DTSTAMP:20260421T134902
CREATED:20250718T074416Z
LAST-MODIFIED:20250718T074416Z
UID:63880-1758240000-1758499199@ovlac.com
SUMMARY:𝐅𝐄𝐌𝐎𝐆𝐀 2025
DESCRIPTION:
URL:https://ovlac.com/de/event/%f0%9d%90%85%f0%9d%90%84%f0%9d%90%8c%f0%9d%90%8e%f0%9d%90%86%f0%9d%90%80-2025/
LOCATION:RECINTO FERIAL DE SARIÑENA\, Avda. de Fraga 42\, 22200 Sariñena (Huesca)\, Spain
END:VEVENT
BEGIN:VEVENT
DTSTART;VALUE=DATE:20250919
DTEND;VALUE=DATE:20250923
DTSTAMP:20260421T134902
CREATED:20250718T072920Z
LAST-MODIFIED:20250718T072920Z
UID:63868-1758240000-1758585599@ovlac.com
SUMMARY:Antica Fiera di Potomaggiore 2025
DESCRIPTION:
URL:https://ovlac.com/de/event/antica-fiera-di-potomaggiore-2025/
LOCATION:Portomaggiore – Ferrara\, Italia
END:VEVENT
END:VCALENDAR